BEGIN:VCALENDAR
VERSION:2.0
PRODID:-//Yoga en Klank - ECPv6.8.3//NONSGML v1.0//EN
CALSCALE:GREGORIAN
METHOD:PUBLISH
X-WR-CALNAME:Yoga en Klank
X-ORIGINAL-URL:https://yogaenklank.nl
X-WR-CALDESC:Evenementen voor Yoga en Klank
REFRESH-INTERVAL;VALUE=DURATION:PT1H
X-Robots-Tag:noindex
X-PUBLISHED-TTL:PT1H
BEGIN:VTIMEZONE
TZID:Europe/Amsterdam
BEGIN:DAYLIGHT
TZOFFSETFROM:+0100
TZOFFSETTO:+0200
TZNAME:CEST
DTSTART:20250330T010000
END:DAYLIGHT
BEGIN:STANDARD
TZOFFSETFROM:+0200
TZOFFSETTO:+0100
TZNAME:CET
DTSTART:20251026T010000
END:STANDARD
END:VTIMEZONE
BEGIN:VEVENT
DTSTART;TZID=Europe/Amsterdam:20250108T090000
DTEND;TZID=Europe/Amsterdam:20250108T101500
DTSTAMP:20260419T161023
CREATED:20221229T144811Z
LAST-MODIFIED:20241218T191358Z
UID:7238-1736326800-1736331300@yogaenklank.nl
SUMMARY:Yoga in Nisse
DESCRIPTION:
URL:https://yogaenklank.nl/event/yoga-in-nisse/
END:VEVENT
BEGIN:VEVENT
DTSTART;TZID=Europe/Amsterdam:20250110T090000
DTEND;TZID=Europe/Amsterdam:20250110T100000
DTSTAMP:20260419T161023
CREATED:20240409T140741Z
LAST-MODIFIED:20241218T190314Z
UID:7707-1736499600-1736503200@yogaenklank.nl
SUMMARY:Yoga in Wilhelminadorp
DESCRIPTION:Vanaf vrijdag 19 januari 2024 ben ik gestart ik met een nieuwe yogagroep in het dorpshuis van Wilhelminadorp. De lessen zijn elke vrijdag van 9-10 uur. \nDe kosten zijn 11 euro per les. \n \n 
URL:https://yogaenklank.nl/event/yoga-in-wilhelminadorp-40/
LOCATION:Dorpshuis Wilhelminadorp\, Burgstraat 4\, Wilhelminadorp\, Nederland\, 4475 AP
CATEGORIES:Yoga Bewust Zijn
END:VEVENT
BEGIN:VEVENT
DTSTART;TZID=Europe/Amsterdam:20250115T090000
DTEND;TZID=Europe/Amsterdam:20250115T101500
DTSTAMP:20260419T161023
CREATED:20241218T191425Z
LAST-MODIFIED:20241218T191425Z
UID:7806-1736931600-1736936100@yogaenklank.nl
SUMMARY:Yoga in Nisse
DESCRIPTION:
URL:https://yogaenklank.nl/event/yoga-in-nisse-21/
END:VEVENT
BEGIN:VEVENT
DTSTART;TZID=Europe/Amsterdam:20250117T090000
DTEND;TZID=Europe/Amsterdam:20250117T100000
DTSTAMP:20260419T161023
CREATED:20241218T190659Z
LAST-MODIFIED:20241218T190659Z
UID:7790-1737104400-1737108000@yogaenklank.nl
SUMMARY:Yoga in Wilhelminadorp
DESCRIPTION:Sinds vrijdag 19 januari 2024 verzorg  de yogales in het dorpshuis van Wilhelminadorp. De lessen zijn elke vrijdag van 9-10 uur. \nDe kosten zijn 11 euro per les. Mocht je een keer mee willen doen\, dan ben je van harte welkom. Ik vind het fijn om te weten dat je komt. \n \n 
URL:https://yogaenklank.nl/event/yoga-in-wilhelminadorp-9/
LOCATION:Dorpshuis Wilhelminadorp\, Burgstraat 4\, Wilhelminadorp\, Nederland\, 4475 AP
CATEGORIES:Yoga Bewust Zijn
END:VEVENT
BEGIN:VEVENT
DTSTART;TZID=Europe/Amsterdam:20250122T090000
DTEND;TZID=Europe/Amsterdam:20250122T101500
DTSTAMP:20260419T161023
CREATED:20241218T191452Z
LAST-MODIFIED:20241218T191452Z
UID:7808-1737536400-1737540900@yogaenklank.nl
SUMMARY:Yoga in Nisse
DESCRIPTION:
URL:https://yogaenklank.nl/event/yoga-in-nisse-22/
END:VEVENT
BEGIN:VEVENT
DTSTART;TZID=Europe/Amsterdam:20250124T090000
DTEND;TZID=Europe/Amsterdam:20250124T100000
DTSTAMP:20260419T161023
CREATED:20241218T190728Z
LAST-MODIFIED:20241218T190728Z
UID:7792-1737709200-1737712800@yogaenklank.nl
SUMMARY:Yoga in Wilhelminadorp
DESCRIPTION:Sinds vrijdag 19 januari 2024 verzorg  de yogales in het dorpshuis van Wilhelminadorp. De lessen zijn elke vrijdag van 9-10 uur. \nDe kosten zijn 11 euro per les. Mocht je een keer mee willen doen\, dan ben je van harte welkom. Ik vind het fijn om te weten dat je komt. \n \n 
URL:https://yogaenklank.nl/event/yoga-in-wilhelminadorp-10/
LOCATION:Dorpshuis Wilhelminadorp\, Burgstraat 4\, Wilhelminadorp\, Nederland\, 4475 AP
CATEGORIES:Yoga Bewust Zijn
END:VEVENT
BEGIN:VEVENT
DTSTART;TZID=Europe/Amsterdam:20250129T090000
DTEND;TZID=Europe/Amsterdam:20250129T101500
DTSTAMP:20260419T161023
CREATED:20241218T191528Z
LAST-MODIFIED:20241218T191528Z
UID:7811-1738141200-1738145700@yogaenklank.nl
SUMMARY:Yoga in Nisse
DESCRIPTION:
URL:https://yogaenklank.nl/event/yoga-in-nisse-23/
END:VEVENT
BEGIN:VEVENT
DTSTART;TZID=Europe/Amsterdam:20250131T090000
DTEND;TZID=Europe/Amsterdam:20250131T100000
DTSTAMP:20260419T161023
CREATED:20241218T190755Z
LAST-MODIFIED:20241218T190755Z
UID:7794-1738314000-1738317600@yogaenklank.nl
SUMMARY:Yoga in Wilhelminadorp
DESCRIPTION:Sinds vrijdag 19 januari 2024 verzorg  de yogales in het dorpshuis van Wilhelminadorp. De lessen zijn elke vrijdag van 9-10 uur. \nDe kosten zijn 11 euro per les. Mocht je een keer mee willen doen\, dan ben je van harte welkom. Ik vind het fijn om te weten dat je komt. \n \n 
URL:https://yogaenklank.nl/event/yoga-in-wilhelminadorp-11/
LOCATION:Dorpshuis Wilhelminadorp\, Burgstraat 4\, Wilhelminadorp\, Nederland\, 4475 AP
CATEGORIES:Yoga Bewust Zijn
END:VEVENT
END:VCALENDAR