BEGIN:VCALENDAR
VERSION:2.0
PRODID:-//Yoga en Klank - ECPv6.8.3//NONSGML v1.0//EN
CALSCALE:GREGORIAN
METHOD:PUBLISH
X-ORIGINAL-URL:https://yogaenklank.nl
X-WR-CALDESC:Evenementen voor Yoga en Klank
REFRESH-INTERVAL;VALUE=DURATION:PT1H
X-Robots-Tag:noindex
X-PUBLISHED-TTL:PT1H
BEGIN:VTIMEZONE
TZID:Europe/Amsterdam
BEGIN:DAYLIGHT
TZOFFSETFROM:+0100
TZOFFSETTO:+0200
TZNAME:CEST
DTSTART:20240331T010000
END:DAYLIGHT
BEGIN:STANDARD
TZOFFSETFROM:+0200
TZOFFSETTO:+0100
TZNAME:CET
DTSTART:20241027T010000
END:STANDARD
END:VTIMEZONE
BEGIN:VEVENT
DTSTART;TZID=Europe/Amsterdam:20241002T090000
DTEND;TZID=Europe/Amsterdam:20241002T101500
DTSTAMP:20260421T104153
CREATED:20240409T161457Z
LAST-MODIFIED:20240409T161457Z
UID:7734-1727859600-1727864100@yogaenklank.nl
SUMMARY:Yoga in Wilhelminadorp
DESCRIPTION:
URL:https://yogaenklank.nl/event/yoga-in-wilhelminadorp-8/
END:VEVENT
BEGIN:VEVENT
DTSTART;TZID=Europe/Amsterdam:20241002T090000
DTEND;TZID=Europe/Amsterdam:20241002T102000
DTSTAMP:20260421T104153
CREATED:20240409T161335Z
LAST-MODIFIED:20240409T161335Z
UID:7736-1727859600-1727864400@yogaenklank.nl
SUMMARY:Yogales in 't Durpsuus in Nisse
DESCRIPTION:Mijn lessen zijn toegankelijk voor iedereen.  Ik vind het belangrijk dat iedereen zich thuis voelt. In mijn lessen zit van alles wat: yin yoga\, restorative yoga\, hatha yoga\, yoga nidra en meditatie. \nJe bent altijd van harte welkom om een keer mee te doen!
URL:https://yogaenklank.nl/event/yogales-in-t-durpsuus-in-nisse-32/
LOCATION:’t Durpsuus\, Dorpsplein\, 28\, Nisse
CATEGORIES:Yoga Bewust Zijn
END:VEVENT
BEGIN:VEVENT
DTSTART;TZID=Europe/Amsterdam:20241004T090000
DTEND;TZID=Europe/Amsterdam:20241004T100000
DTSTAMP:20260421T104153
CREATED:20240409T135912Z
LAST-MODIFIED:20240409T135912Z
UID:7681-1728032400-1728036000@yogaenklank.nl
SUMMARY:Yoga in Wilhelminadorp
DESCRIPTION:Vanaf vrijdag 19 januari start ik met een nieuwe yogagroep in het dorpshuis van Wilhelminadorp. De lessen zijn elke vrijdag van 9-10 uur. \nDe kosten zijn 10 euro per les. \n \n 
URL:https://yogaenklank.nl/event/yoga-in-wilhelminadorp-28/
LOCATION:Dorpshuis Wilhelminadorp\, Burgstraat 4\, Wilhelminadorp\, Nederland\, 4475 AP
CATEGORIES:Yoga Bewust Zijn
END:VEVENT
BEGIN:VEVENT
DTSTART;TZID=Europe/Amsterdam:20241005T100000
DTEND;TZID=Europe/Amsterdam:20241005T150000
DTSTAMP:20260421T104153
CREATED:20231214T094548Z
LAST-MODIFIED:20240409T155034Z
UID:7597-1728122400-1728140400@yogaenklank.nl
SUMMARY:retraitedag zaterdag 5 oktober 2024
DESCRIPTION:Retraitedag zaterdag 5 oktober 2024\n\n\nHet beloofd weer een mooie dag te worden\,  waarin rust centraal staat.  Door de verschillende yogavormen af te wisselen en deze te verdiepen met klank ervaar je een steeds diepere laag van ontspanning. \nDeze dag organiseer ik samen met Heleen. \n \nDe kosten voor deze dag zijn 85 euro. \n  \nDe vegetarische lunch zal wederom niet ontbreken. \nTijd: 10-15 uur
URL:https://yogaenklank.nl/event/retraitedag-zaterdag-30-november-2024/
LOCATION:’t Durpsuus\, Dorpsplein\, 28\, Nisse
CATEGORIES:Retraitedagen
END:VEVENT
BEGIN:VEVENT
DTSTART;TZID=Europe/Amsterdam:20241005T100000
DTEND;TZID=Europe/Amsterdam:20241005T160000
DTSTAMP:20260421T104153
CREATED:20240814T173123Z
LAST-MODIFIED:20240814T173123Z
UID:7772-1728122400-1728144000@yogaenklank.nl
SUMMARY:retraitedag 5 oktober 2024
DESCRIPTION:Heleen van Leerzem en Monique de Jong geven deze speciale retraitedag met yoga\, meditatieve pianomuziek en ontspannende klanken. \nEen dag om jezelf kado te doen en waar je lichaam en geest helemaal tot rust kunnen komen. \nWe beginnen de ochtend met lichte yoga met speciaal daarop afgestemde pianomuziek. De klanken helpen je om je hoofd rustig te maken en meer te verbinden met je hart. \nDaarna gaan we een laagje dieper in de ontspanning met restorative yoga. \nMet aansluitend een live ligconcert met meditatieve pianomuziek. \nRond 12.30 uur is het tijd voor een gezonde lunch. \nNa de lunch gaan we verder de verstilling in d.m.v. yin yoga\, gevolgd door yoga Nidra. \nAls toetje sluiten we de dag af met een gezamenlijke klankreis met klankschalen\, gong\, oceandrums en andere mooie instrumenten. Opgeven bij: moniquedejong2018@gmail.com
URL:https://yogaenklank.nl/event/retraitedag-5-oktober-2024/
LOCATION:Kerkje van Lewedorp\, Zandkreekstraat\, Lewedorp\, Zeeland
ORGANIZER;CN="Monique de Jong":MAILTO:moniquedejong2018@gmail.com
END:VEVENT
BEGIN:VEVENT
DTSTART;TZID=Europe/Amsterdam:20241009T090000
DTEND;TZID=Europe/Amsterdam:20241009T102000
DTSTAMP:20260421T104153
CREATED:20240409T161609Z
LAST-MODIFIED:20240409T161609Z
UID:7741-1728464400-1728469200@yogaenklank.nl
SUMMARY:Yogales in 't Durpsuus in Nisse
DESCRIPTION:Mijn lessen zijn toegankelijk voor iedereen.  Ik vind het belangrijk dat iedereen zich thuis voelt. In mijn lessen zit van alles wat: yin yoga\, restorative yoga\, hatha yoga\, yoga nidra en meditatie. \nJe bent altijd van harte welkom om een keer mee te doen!
URL:https://yogaenklank.nl/event/yogales-in-t-durpsuus-in-nisse-33/
LOCATION:’t Durpsuus\, Dorpsplein\, 28\, Nisse
CATEGORIES:Yoga Bewust Zijn
END:VEVENT
BEGIN:VEVENT
DTSTART;TZID=Europe/Amsterdam:20241011T090000
DTEND;TZID=Europe/Amsterdam:20241011T100000
DTSTAMP:20260421T104153
CREATED:20240409T135951Z
LAST-MODIFIED:20240409T135951Z
UID:7683-1728637200-1728640800@yogaenklank.nl
SUMMARY:Yoga in Wilhelminadorp
DESCRIPTION:Vanaf vrijdag 19 januari start ik met een nieuwe yogagroep in het dorpshuis van Wilhelminadorp. De lessen zijn elke vrijdag van 9-10 uur. \nDe kosten zijn 10 euro per les. \n \n 
URL:https://yogaenklank.nl/event/yoga-in-wilhelminadorp-29/
LOCATION:Dorpshuis Wilhelminadorp\, Burgstraat 4\, Wilhelminadorp\, Nederland\, 4475 AP
CATEGORIES:Yoga Bewust Zijn
END:VEVENT
BEGIN:VEVENT
DTSTART;TZID=Europe/Amsterdam:20241014T191500
DTEND;TZID=Europe/Amsterdam:20241014T204500
DTSTAMP:20260421T104153
CREATED:20240409T124203Z
LAST-MODIFIED:20240409T124203Z
UID:7642-1728933300-1728938700@yogaenklank.nl
SUMMARY:Restorative Yoga in Ovezande
DESCRIPTION:
URL:https://yogaenklank.nl/event/restorative-yoga-in-ovezande-29/
END:VEVENT
BEGIN:VEVENT
DTSTART;TZID=Europe/Amsterdam:20241016T090000
DTEND;TZID=Europe/Amsterdam:20241016T102000
DTSTAMP:20260421T104153
CREATED:20240409T161700Z
LAST-MODIFIED:20240409T161700Z
UID:7735-1729069200-1729074000@yogaenklank.nl
SUMMARY:Yogales in 't Durpsuus in Nisse
DESCRIPTION:Mijn lessen zijn toegankelijk voor iedereen.  Ik vind het belangrijk dat iedereen zich thuis voelt. In mijn lessen zit van alles wat: yin yoga\, restorative yoga\, hatha yoga\, yoga nidra en meditatie. \nJe bent altijd van harte welkom om een keer mee te doen!
URL:https://yogaenklank.nl/event/yogales-in-t-durpsuus-in-nisse-34/
LOCATION:’t Durpsuus\, Dorpsplein\, 28\, Nisse
CATEGORIES:Yoga Bewust Zijn
END:VEVENT
BEGIN:VEVENT
DTSTART;TZID=Europe/Amsterdam:20241018T090000
DTEND;TZID=Europe/Amsterdam:20241018T100000
DTSTAMP:20260421T104153
CREATED:20240409T140103Z
LAST-MODIFIED:20240409T140103Z
UID:7685-1729242000-1729245600@yogaenklank.nl
SUMMARY:Yoga in Wilhelminadorp
DESCRIPTION:Vanaf vrijdag 19 januari start ik met een nieuwe yogagroep in het dorpshuis van Wilhelminadorp. De lessen zijn elke vrijdag van 9-10 uur. \nDe kosten zijn 10 euro per les. \n \n 
URL:https://yogaenklank.nl/event/yoga-in-wilhelminadorp-31/
LOCATION:Dorpshuis Wilhelminadorp\, Burgstraat 4\, Wilhelminadorp\, Nederland\, 4475 AP
CATEGORIES:Yoga Bewust Zijn
END:VEVENT
BEGIN:VEVENT
DTSTART;TZID=Europe/Amsterdam:20241018T090000
DTEND;TZID=Europe/Amsterdam:20241018T100000
DTSTAMP:20260421T104153
CREATED:20240409T140029Z
LAST-MODIFIED:20240409T140029Z
UID:7684-1729242000-1729245600@yogaenklank.nl
SUMMARY:Yoga in Wilhelminadorp
DESCRIPTION:Vanaf vrijdag 19 januari start ik met een nieuwe yogagroep in het dorpshuis van Wilhelminadorp. De lessen zijn elke vrijdag van 9-10 uur. \nDe kosten zijn 10 euro per les. \n \n 
URL:https://yogaenklank.nl/event/yoga-in-wilhelminadorp-30/
LOCATION:Dorpshuis Wilhelminadorp\, Burgstraat 4\, Wilhelminadorp\, Nederland\, 4475 AP
CATEGORIES:Yoga Bewust Zijn
END:VEVENT
BEGIN:VEVENT
DTSTART;TZID=Europe/Amsterdam:20241021T191500
DTEND;TZID=Europe/Amsterdam:20241021T201500
DTSTAMP:20260421T104153
CREATED:20240814T174116Z
LAST-MODIFIED:20240814T174116Z
UID:7780-1729538100-1729541700@yogaenklank.nl
SUMMARY:yin yoga
DESCRIPTION:
URL:https://yogaenklank.nl/event/yin-yoga-2/
LOCATION:Dorpshuis Ovezande\, Hoofdstraat 54\, Ovezande\, 4441 AE
CATEGORIES:Yoga Bewust Zijn
END:VEVENT
BEGIN:VEVENT
DTSTART;TZID=Europe/Amsterdam:20241021T191500
DTEND;TZID=Europe/Amsterdam:20241021T201500
DTSTAMP:20260421T104153
CREATED:20240409T122343Z
LAST-MODIFIED:20240409T122343Z
UID:7622-1729538100-1729541700@yogaenklank.nl
SUMMARY:Yin Yoga in Ovezande
DESCRIPTION:Vanaf januari 2024 ga ik yin yogalessen geven op maandagavond. Deze les zal 1x per maand zijn.                            \n\nWat is Yin Yoga precies?\nYin yoga is een passieve yogastijl waarbij je houdingen (asana’s) voor langere tijd vasthoudt. Deze yoga oefeningen zijn gericht op de diepe bindweefsels van het lichaam. \nYin yoga werkt namelijk specifiek om diep door te dringen in het bindweefsel in je lichaam\, waardoor fysieke en energetische blokkades worden losgelaten. \nBij Yin Yoga besteed je veel aandacht  aan je gedachten\, ademhaling en lichamelijke gewaarwordingen. Yin yoga is dan ook erg meditatief van aard en wordt op een rustige manier bijgebracht. \n\n\nYin Yoga brengt je rust in het hoofd\, maakt je meer lichaamsbewust en je ontwikkelt er meer lenigheid mee.\nDe bijdrage voor deze les in 12 euro.  Je kunt ook een 10-rittenkaart aanschaffen voor 100 euro. Deze is dan voldoende voor de 10 lessen in 2024.\nLesdata: 29 januari\, 26 februari\, 25 maart\, 22 april\, 20 mei\, 17 juni\, 23 september\, 20 oktober\, 18 november\, 16 december.\nOpgeven kan via mail/tel: moniquedejong2018@gmail.com/ 06-33852023
URL:https://yogaenklank.nl/event/yin-yoga-in-ovezande-8/
LOCATION:Dorpshuis Ovezande\, Hoofdstraat 54\, Ovezande\, 4441 AE
CATEGORIES:Yoga Bewust Zijn
END:VEVENT
BEGIN:VEVENT
DTSTART;TZID=Europe/Amsterdam:20241023T090000
DTEND;TZID=Europe/Amsterdam:20241023T102000
DTSTAMP:20260421T104153
CREATED:20240409T161748Z
LAST-MODIFIED:20240409T161748Z
UID:7742-1729674000-1729678800@yogaenklank.nl
SUMMARY:Yogales in 't Durpsuus in Nisse
DESCRIPTION:Mijn lessen zijn toegankelijk voor iedereen.  Ik vind het belangrijk dat iedereen zich thuis voelt. In mijn lessen zit van alles wat: yin yoga\, restorative yoga\, hatha yoga\, yoga nidra en meditatie. \nJe bent altijd van harte welkom om een keer mee te doen!
URL:https://yogaenklank.nl/event/yogales-in-t-durpsuus-in-nisse-35/
LOCATION:’t Durpsuus\, Dorpsplein\, 28\, Nisse
CATEGORIES:Yoga Bewust Zijn
END:VEVENT
BEGIN:VEVENT
DTSTART;TZID=Europe/Amsterdam:20241025T090000
DTEND;TZID=Europe/Amsterdam:20241025T100000
DTSTAMP:20260421T104153
CREATED:20240409T140138Z
LAST-MODIFIED:20240409T140138Z
UID:7686-1729846800-1729850400@yogaenklank.nl
SUMMARY:Yoga in Wilhelminadorp
DESCRIPTION:Vanaf vrijdag 19 januari start ik met een nieuwe yogagroep in het dorpshuis van Wilhelminadorp. De lessen zijn elke vrijdag van 9-10 uur. \nDe kosten zijn 10 euro per les. \n \n 
URL:https://yogaenklank.nl/event/yoga-in-wilhelminadorp-32/
LOCATION:Dorpshuis Wilhelminadorp\, Burgstraat 4\, Wilhelminadorp\, Nederland\, 4475 AP
CATEGORIES:Yoga Bewust Zijn
END:VEVENT
BEGIN:VEVENT
DTSTART;TZID=Europe/Amsterdam:20241028T190000
DTEND;TZID=Europe/Amsterdam:20241028T210000
DTSTAMP:20260421T104153
CREATED:20240409T124346Z
LAST-MODIFIED:20240409T124346Z
UID:7646-1730142000-1730149200@yogaenklank.nl
SUMMARY:Restorative Yoga in Ovezande
DESCRIPTION:
URL:https://yogaenklank.nl/event/restorative-yoga-in-ovezande-30/
END:VEVENT
BEGIN:VEVENT
DTSTART;TZID=Europe/Amsterdam:20241030T090000
DTEND;TZID=Europe/Amsterdam:20241030T102000
DTSTAMP:20260421T104153
CREATED:20240409T161832Z
LAST-MODIFIED:20240409T161832Z
UID:7743-1730278800-1730283600@yogaenklank.nl
SUMMARY:Yogales in 't Durpsuus in Nisse
DESCRIPTION:Mijn lessen zijn toegankelijk voor iedereen.  Ik vind het belangrijk dat iedereen zich thuis voelt. In mijn lessen zit van alles wat: yin yoga\, restorative yoga\, hatha yoga\, yoga nidra en meditatie. \nJe bent altijd van harte welkom om een keer mee te doen!
URL:https://yogaenklank.nl/event/yogales-in-t-durpsuus-in-nisse-36/
LOCATION:’t Durpsuus\, Dorpsplein\, 28\, Nisse
CATEGORIES:Yoga Bewust Zijn
END:VEVENT
END:VCALENDAR