BEGIN:VCALENDAR
VERSION:2.0
PRODID:-//Yoga en Klank - ECPv6.8.3//NONSGML v1.0//EN
CALSCALE:GREGORIAN
METHOD:PUBLISH
X-WR-CALNAME:Yoga en Klank
X-ORIGINAL-URL:https://yogaenklank.nl
X-WR-CALDESC:Evenementen voor Yoga en Klank
REFRESH-INTERVAL;VALUE=DURATION:PT1H
X-Robots-Tag:noindex
X-PUBLISHED-TTL:PT1H
BEGIN:VTIMEZONE
TZID:Europe/Amsterdam
BEGIN:DAYLIGHT
TZOFFSETFROM:+0100
TZOFFSETTO:+0200
TZNAME:CEST
DTSTART:20230326T010000
END:DAYLIGHT
BEGIN:STANDARD
TZOFFSETFROM:+0200
TZOFFSETTO:+0100
TZNAME:CET
DTSTART:20231029T010000
END:STANDARD
END:VTIMEZONE
BEGIN:VEVENT
DTSTART;TZID=Europe/Amsterdam:20231101T090000
DTEND;TZID=Europe/Amsterdam:20231101T102000
DTSTAMP:20260420T082103
CREATED:20230614T180152Z
LAST-MODIFIED:20230614T180152Z
UID:7443-1698829200-1698834000@yogaenklank.nl
SUMMARY:Yogales in 't Durpsuus in Nisse
DESCRIPTION:Mijn lessen zijn toegankelijk voor iedereen.  Ik vind het belangrijk dat iedereen zich thuis voelt. In mijn lessen zit van alles wat: yin yoga\, restorative yoga\, hatha yoga\, yoga nidra en meditatie. \nJe bent altijd van harte welkom om een keer mee te doen!
URL:https://yogaenklank.nl/event/yogales-in-t-durpsuus-in-nisse-12/
LOCATION:’t Durpsuus\, Dorpsplein\, 28\, Nisse
CATEGORIES:Yoga Bewust Zijn
END:VEVENT
BEGIN:VEVENT
DTSTART;TZID=Europe/Amsterdam:20231104T100000
DTEND;TZID=Europe/Amsterdam:20231104T150000
DTSTAMP:20260420T082103
CREATED:20230926T120728Z
LAST-MODIFIED:20230926T122115Z
UID:7493-1699092000-1699110000@yogaenklank.nl
SUMMARY:retraitedag in 't Durpsuus van Nisse
DESCRIPTION:Een dag voor jezelf! Metime! Tot rust komen door restorative yoga en yoga Nidra. En daarnaast nog verwend worden met een heerlijke lunch. En natuurlijk niet te vergeten die prachtige klankreizen die ook onderdeel uitmaken van deze dag.
URL:https://yogaenklank.nl/event/retraitedag-in-t-durpsuus-van-nisse/
LOCATION:’t Durpsuus\, Dorpsplein\, 28\, Nisse
END:VEVENT
BEGIN:VEVENT
DTSTART;TZID=Europe/Amsterdam:20231108T090000
DTEND;TZID=Europe/Amsterdam:20231108T102000
DTSTAMP:20260420T082103
CREATED:20230614T180254Z
LAST-MODIFIED:20230614T180254Z
UID:7445-1699434000-1699438800@yogaenklank.nl
SUMMARY:Yogales in 't Durpsuus in Nisse
DESCRIPTION:Mijn lessen zijn toegankelijk voor iedereen.  Ik vind het belangrijk dat iedereen zich thuis voelt. In mijn lessen zit van alles wat: yin yoga\, restorative yoga\, hatha yoga\, yoga nidra en meditatie. \nJe bent altijd van harte welkom om een keer mee te doen!
URL:https://yogaenklank.nl/event/yogales-in-t-durpsuus-in-nisse-13/
LOCATION:’t Durpsuus\, Dorpsplein\, 28\, Nisse
CATEGORIES:Yoga Bewust Zijn
END:VEVENT
BEGIN:VEVENT
DTSTART;TZID=Europe/Amsterdam:20231113T191500
DTEND;TZID=Europe/Amsterdam:20231113T204500
DTSTAMP:20260420T082103
CREATED:20230614T182051Z
LAST-MODIFIED:20230926T120204Z
UID:7474-1699902900-1699908300@yogaenklank.nl
SUMMARY:Restorative Yoga in Ovezande
DESCRIPTION:
URL:https://yogaenklank.nl/event/restorative-yoga-in-ovezande-18/
END:VEVENT
BEGIN:VEVENT
DTSTART;TZID=Europe/Amsterdam:20231115T090000
DTEND;TZID=Europe/Amsterdam:20231115T102000
DTSTAMP:20260420T082103
CREATED:20230614T180335Z
LAST-MODIFIED:20230614T180335Z
UID:7447-1700038800-1700043600@yogaenklank.nl
SUMMARY:Yogales in 't Durpsuus in Nisse
DESCRIPTION:Mijn lessen zijn toegankelijk voor iedereen.  Ik vind het belangrijk dat iedereen zich thuis voelt. In mijn lessen zit van alles wat: yin yoga\, restorative yoga\, hatha yoga\, yoga nidra en meditatie. \nJe bent altijd van harte welkom om een keer mee te doen!
URL:https://yogaenklank.nl/event/yogales-in-t-durpsuus-in-nisse-14/
LOCATION:’t Durpsuus\, Dorpsplein\, 28\, Nisse
CATEGORIES:Yoga Bewust Zijn
END:VEVENT
BEGIN:VEVENT
DTSTART;TZID=Europe/Amsterdam:20231122T090000
DTEND;TZID=Europe/Amsterdam:20231122T102000
DTSTAMP:20260420T082103
CREATED:20230614T180422Z
LAST-MODIFIED:20230614T180422Z
UID:7449-1700643600-1700648400@yogaenklank.nl
SUMMARY:Yogales in 't Durpsuus in Nisse
DESCRIPTION:Mijn lessen zijn toegankelijk voor iedereen.  Ik vind het belangrijk dat iedereen zich thuis voelt. In mijn lessen zit van alles wat: yin yoga\, restorative yoga\, hatha yoga\, yoga nidra en meditatie. \nJe bent altijd van harte welkom om een keer mee te doen!
URL:https://yogaenklank.nl/event/yogales-in-t-durpsuus-in-nisse-15/
LOCATION:’t Durpsuus\, Dorpsplein\, 28\, Nisse
CATEGORIES:Yoga Bewust Zijn
END:VEVENT
BEGIN:VEVENT
DTSTART;TZID=Europe/Amsterdam:20231127T191500
DTEND;TZID=Europe/Amsterdam:20231127T204500
DTSTAMP:20260420T082103
CREATED:20230614T182138Z
LAST-MODIFIED:20230926T120318Z
UID:7476-1701112500-1701117900@yogaenklank.nl
SUMMARY:Restorative Yoga in Ovezande
DESCRIPTION:
URL:https://yogaenklank.nl/event/restorative-yoga-in-ovezande-19/
END:VEVENT
BEGIN:VEVENT
DTSTART;TZID=Europe/Amsterdam:20231129T090000
DTEND;TZID=Europe/Amsterdam:20231129T102000
DTSTAMP:20260420T082103
CREATED:20230614T180505Z
LAST-MODIFIED:20230614T180505Z
UID:7451-1701248400-1701253200@yogaenklank.nl
SUMMARY:Yogales in 't Durpsuus in Nisse
DESCRIPTION:Mijn lessen zijn toegankelijk voor iedereen.  Ik vind het belangrijk dat iedereen zich thuis voelt. In mijn lessen zit van alles wat: yin yoga\, restorative yoga\, hatha yoga\, yoga nidra en meditatie. \nJe bent altijd van harte welkom om een keer mee te doen!
URL:https://yogaenklank.nl/event/yogales-in-t-durpsuus-in-nisse-16/
LOCATION:’t Durpsuus\, Dorpsplein\, 28\, Nisse
CATEGORIES:Yoga Bewust Zijn
END:VEVENT
END:VCALENDAR