BEGIN:VCALENDAR
VERSION:2.0
PRODID:-//Yoga en Klank - ECPv6.8.3//NONSGML v1.0//EN
CALSCALE:GREGORIAN
METHOD:PUBLISH
X-ORIGINAL-URL:https://yogaenklank.nl
X-WR-CALDESC:Evenementen voor Yoga en Klank
REFRESH-INTERVAL;VALUE=DURATION:PT1H
X-Robots-Tag:noindex
X-PUBLISHED-TTL:PT1H
BEGIN:VTIMEZONE
TZID:Europe/Amsterdam
BEGIN:DAYLIGHT
TZOFFSETFROM:+0100
TZOFFSETTO:+0200
TZNAME:CEST
DTSTART:20260329T010000
END:DAYLIGHT
BEGIN:STANDARD
TZOFFSETFROM:+0200
TZOFFSETTO:+0100
TZNAME:CET
DTSTART:20261025T010000
END:STANDARD
END:VTIMEZONE
BEGIN:VEVENT
DTSTART;TZID=Europe/Amsterdam:20260116T090000
DTEND;TZID=Europe/Amsterdam:20260116T100000
DTSTAMP:20260420T071643
CREATED:20260110T134826Z
LAST-MODIFIED:20260110T134826Z
UID:8087-1768554000-1768557600@yogaenklank.nl
SUMMARY:Yoga in Wilhelminadorp
DESCRIPTION:🧘‍♀️ Kom tot rust met yoga! 🧘‍♂️ \nBen je op zoek naar meer balans\, flexibiliteit en innerlijke rust? \nSluit je aan bij onze yogales en ontdek hoe een uurtje per week jouw lichaam en geest nieuw leven inblaast. \n✨ Voor alle niveaus – van beginner tot gevorderd✨ Kleine groepen\, persoonlijke begeleiding\n✨ Focus op ademhaling\, ontspanning en kracht \n📍 Locatie: Dorpshuis Wilhelminadorp\, Brugstraat 4\, Wilhelminadorp🗓️ Wanneer: elke vrijdag 9-10 uur💶 Tarief: 11 euro \n➡️ Meld je aan via 06-33852023/moniquedejong2018@gmail.com en ervaar het zelf! \n 
URL:https://yogaenklank.nl/event/yoga-in-wilhelminadorp-86/
LOCATION:Dorpshuis Wilhelminadorp\, Burgstraat 4\, Wilhelminadorp\, Nederland\, 4475 AP
CATEGORIES:Yoga Bewust Zijn
END:VEVENT
BEGIN:VEVENT
DTSTART;TZID=Europe/Amsterdam:20260116T090000
DTEND;TZID=Europe/Amsterdam:20260116T100000
DTSTAMP:20260420T071643
CREATED:20250911T132459Z
LAST-MODIFIED:20250911T132459Z
UID:7955-1768554000-1768557600@yogaenklank.nl
SUMMARY:Yoga in Wilhelminadorp
DESCRIPTION:🧘‍♀️ Kom tot rust met yoga! 🧘‍♂️ \nBen je op zoek naar meer balans\, flexibiliteit en innerlijke rust? \nSluit je aan bij onze yogales en ontdek hoe een uurtje per week jouw lichaam en geest nieuw leven inblaast. \n✨ Voor alle niveaus – van beginner tot gevorderd✨ Kleine groepen\, persoonlijke begeleiding\n✨ Focus op ademhaling\, ontspanning en kracht \n📍 Locatie: Dorpshuis Wilhelminadorp\, Brugstraat 4\, Wilhelminadorp🗓️ Wanneer: elke vrijdag 9-10 uur💶 Tarief: 11 euro \n➡️ Meld je aan via 06-33852023/moniquedejong2018@gmail.com en ervaar het zelf! \n 
URL:https://yogaenklank.nl/event/yoga-in-wilhelminadorp-62/
LOCATION:Dorpshuis Wilhelminadorp\, Burgstraat 4\, Wilhelminadorp\, Nederland\, 4475 AP
CATEGORIES:Yoga Bewust Zijn
END:VEVENT
END:VCALENDAR