BEGIN:VCALENDAR
VERSION:2.0
PRODID:-//Yoga en Klank - ECPv6.8.3//NONSGML v1.0//EN
CALSCALE:GREGORIAN
METHOD:PUBLISH
X-WR-CALNAME:Yoga en Klank
X-ORIGINAL-URL:https://yogaenklank.nl
X-WR-CALDESC:Evenementen voor Yoga en Klank
REFRESH-INTERVAL;VALUE=DURATION:PT1H
X-Robots-Tag:noindex
X-PUBLISHED-TTL:PT1H
BEGIN:VTIMEZONE
TZID:Europe/Amsterdam
BEGIN:DAYLIGHT
TZOFFSETFROM:+0100
TZOFFSETTO:+0200
TZNAME:CEST
DTSTART:20250330T010000
END:DAYLIGHT
BEGIN:STANDARD
TZOFFSETFROM:+0200
TZOFFSETTO:+0100
TZNAME:CET
DTSTART:20251026T010000
END:STANDARD
END:VTIMEZONE
BEGIN:VEVENT
DTSTART;TZID=Europe/Amsterdam:20251210T180000
DTEND;TZID=Europe/Amsterdam:20251210T191500
DTSTAMP:20260420T051414
CREATED:20250911T134714Z
LAST-MODIFIED:20250911T134714Z
UID:8020-1765389600-1765394100@yogaenklank.nl
SUMMARY:Restorative yogales Zeeuwse yogaschool\, Middelburg
DESCRIPTION:Restorative yoga is een zachte en herstellende yogavorm die het zenuwstelsel tot rust brengt en het lichaam uitnodigt om spanning los te laten. Met behulp van kussens\, dekens en bolsters word je in comfortabele houdingen ondersteund\, zodat je volledig kunt ontspannen. \nIn deze beoefening draait het niet om inspanning of flexibiliteit\, maar om vertragen\, voelen en herstellen. Door langer in de houdingen te blijven ontstaat er ruimte voor diepe ontspanning\, herstel en innerlijke balans. \n✨ Geschikt voor iedereen\, ongeacht ervaring of conditie. \n✨ Ideaal bij stress\, vermoeidheid of gewoon om jezelf te voeden met rust. \n✨ Een cadeau van stilte en zachtheid voor lichaam en geest \n. \nJe kunt je aanmelden voor een les bij dezeeuwseyogaschool.nl \nlestijd 18-19.15 uur \nOpgeven via: www.dezeeuwseyogaschool.nl
URL:https://yogaenklank.nl/event/restorative-yogales-zeeuwse-yogaschool-middelburg-16/
END:VEVENT
END:VCALENDAR