BEGIN:VCALENDAR
VERSION:2.0
PRODID:-//Yoga en Klank - ECPv6.8.3//NONSGML v1.0//EN
CALSCALE:GREGORIAN
METHOD:PUBLISH
X-WR-CALNAME:Yoga en Klank
X-ORIGINAL-URL:https://yogaenklank.nl
X-WR-CALDESC:Evenementen voor Yoga en Klank
REFRESH-INTERVAL;VALUE=DURATION:PT1H
X-Robots-Tag:noindex
X-PUBLISHED-TTL:PT1H
BEGIN:VTIMEZONE
TZID:Europe/Amsterdam
BEGIN:DAYLIGHT
TZOFFSETFROM:+0100
TZOFFSETTO:+0200
TZNAME:CEST
DTSTART:20230326T010000
END:DAYLIGHT
BEGIN:STANDARD
TZOFFSETFROM:+0200
TZOFFSETTO:+0100
TZNAME:CET
DTSTART:20231029T010000
END:STANDARD
END:VTIMEZONE
BEGIN:VEVENT
DTSTART;TZID=Europe/Amsterdam:20231113T191500
DTEND;TZID=Europe/Amsterdam:20231113T204500
DTSTAMP:20260420T100705
CREATED:20230614T182051Z
LAST-MODIFIED:20230926T120204Z
UID:7474-1699902900-1699908300@yogaenklank.nl
SUMMARY:Restorative Yoga in Ovezande
DESCRIPTION:
URL:https://yogaenklank.nl/event/restorative-yoga-in-ovezande-18/
END:VEVENT
END:VCALENDAR